BEGIN:VCALENDAR
VERSION:2.0
PRODID:-//Eventin//Event Calendar//EN
CALSCALE:GREGORIAN
METHOD:PUBLISH
BEGIN:VEVENT
UID:ed9120bf33564129e952a160e7e4b71d@syntegrahl.de
SUMMARY:Aufstellungstag Syntegrahl A
DESCRIPTION: \n\nAufstellungstag Systemisch integrative Aufstellung\n \nL
 erne die systemisch integrative Aufstellungsarbeit in Verbindung mit Genogr
 am und EFT Klopftechnik kennen.\n \nEinführung in die systemisch integrat
 ive Aufstellung mit Übungsaufstellungen (Blitzlicht) mit eigenen Themen. E
 inführung in das Genogramm und die EFT-Klopftechnik.\n \nEntdecke die tra
 nsformative Kraft dieser Methoden und wie sie dir helfen können\, tief ver
 wurzelte Muster und Beziehungen in deinem Leben zu erkennen und zu verände
 rn.\n \nDurch das Erlernen und Anwenden der Techniken des Genograms\, der 
 systemischen Aufstellungsarbeit und der Emotionalen Freiheitstechniken kann
 st du nicht nur dein eigenes emotionales Wohlergehen fördern\, sondern auc
 h neue Perspektiven für die Interaktionen mit deinen Mitmenschen gewinnen.
  Lerne kennen\, wie du diese wertvollen Werkzeuge in deinem Alltag einsetzt
 \, um innere Blockaden zu lösen und dein volles Potenzial zu entfalten.
LOCATION:Flow&Fokus\, Ebertsheimer Weg 1\, 67310 Hettenleidelheim
DTSTAMP:20260423T110138Z
DTSTART:20260705T080000Z
DTEND:20260705T150000Z
END:VEVENT
END:VCALENDAR
